BEGIN:VCALENDAR
VERSION:2.0
PRODID:-//Access &amp; Forklift Services Ltd | MEWP, Mobile Scaffold, Fall Arrest and Forklift Training Limerick &amp; Dublin - ECPv4.5.13//NONSGML v1.0//EN
CALSCALE:GREGORIAN
METHOD:PUBLISH
X-WR-CALNAME:Access &amp; Forklift Services Ltd | MEWP, Mobile Scaffold, Fall Arrest and Forklift Training Limerick &amp; Dublin
X-ORIGINAL-URL:http://www.accessandforkliftservices.com
X-WR-CALDESC:Events for Access &amp; Forklift Services Ltd | MEWP, Mobile Scaffold, Fall Arrest and Forklift Training Limerick &amp; Dublin
BEGIN:VEVENT
DTSTART;VALUE=DATE:20171104
DTEND;VALUE=DATE:20171104
DTSTAMP:20171104T182030
CREATED:20171020T091938Z
LAST-MODIFIED:20171020T091938Z
UID:940-1509753600-1509839999@www.accessandforkliftservices.com
SUMMARY:MEWP Operator Course - Limerick
DESCRIPTION:
URL:http://www.accessandforkliftservices.com/course/mewp-operator-course-limerick-26/
LOCATION:Unit 7a\, Delta Retail Park\, Limerick\, V94 EV61
END:VEVENT
BEGIN:VEVENT
DTSTART;VALUE=DATE:20171104
DTEND;VALUE=DATE:20171104
DTSTAMP:20171104T182030
CREATED:20171020T092034Z
LAST-MODIFIED:20171020T092211Z
UID:942-1509753600-1509839999@www.accessandforkliftservices.com
SUMMARY:Working At Heights"/Harness Training - Limerick
DESCRIPTION:
URL:http://www.accessandforkliftservices.com/course/working-at-heightsharness-training-limerick-2/
LOCATION:Unit 7a\, Delta Retail Park\, Limerick\, V94 EV61
END:VEVENT
END:VCALENDAR